BEGIN:VCALENDAR
VERSION:2.0
PRODID:-//OGV Kaiserslautern-Dansenberg e.V. - ECPv6.15.20//NONSGML v1.0//EN
CALSCALE:GREGORIAN
METHOD:PUBLISH
X-ORIGINAL-URL:https://gartenbauverein-dansenberg.de
X-WR-CALDESC:Veranstaltungen für OGV Kaiserslautern-Dansenberg e.V.
REFRESH-INTERVAL;VALUE=DURATION:PT1H
X-Robots-Tag:noindex
X-PUBLISHED-TTL:PT1H
BEGIN:VTIMEZONE
TZID:UTC
BEGIN:STANDARD
TZOFFSETFROM:+0000
TZOFFSETTO:+0000
TZNAME:UTC
DTSTART:20250101T000000
END:STANDARD
END:VTIMEZONE
BEGIN:VEVENT
DTSTART;TZID=UTC:20260926T093000
DTEND;TZID=UTC:20260926T153000
DTSTAMP:20260425T161123
CREATED:20260225T213650Z
LAST-MODIFIED:20260226T210204Z
UID:828-1790415000-1790436600@gartenbauverein-dansenberg.de
SUMMARY:Pflanzenbörse
DESCRIPTION:Pflanzenbörse auf der Obstwiese
URL:https://gartenbauverein-dansenberg.de/veranstaltungen/828/
LOCATION:Obstwiese Dansenberg\, Franz-Becht Straße\, Kaiserslautern\, 67661\, Deutschland
END:VEVENT
END:VCALENDAR