BEGIN:VCALENDAR
VERSION:2.0
PRODID:-//OGV Kaiserslautern-Dansenberg e.V. - ECPv6.15.20//NONSGML v1.0//EN
CALSCALE:GREGORIAN
METHOD:PUBLISH
X-WR-CALNAME:OGV Kaiserslautern-Dansenberg e.V.
X-ORIGINAL-URL:https://gartenbauverein-dansenberg.de
X-WR-CALDESC:Veranstaltungen für OGV Kaiserslautern-Dansenberg e.V.
REFRESH-INTERVAL;VALUE=DURATION:PT1H
X-Robots-Tag:noindex
X-PUBLISHED-TTL:PT1H
BEGIN:VTIMEZONE
TZID:UTC
BEGIN:STANDARD
TZOFFSETFROM:+0000
TZOFFSETTO:+0000
TZNAME:UTC
DTSTART:20250101T000000
END:STANDARD
END:VTIMEZONE
BEGIN:VEVENT
DTSTART;TZID=UTC:20261106T190000
DTEND;TZID=UTC:20261106T220000
DTSTAMP:20260425T192802
CREATED:20260225T213836Z
LAST-MODIFIED:20260226T210110Z
UID:832-1793991600-1794002400@gartenbauverein-dansenberg.de
SUMMARY:Fachvortrag
DESCRIPTION:Fachvortrag im katholischen Gemeindehaus
URL:https://gartenbauverein-dansenberg.de/veranstaltungen/832/
LOCATION:Katholische Pfarrheim Dansenberg\, Hautzenbergstraße 4\, Kaiserslautern\, 67661\, Deutschland
END:VEVENT
END:VCALENDAR