BEGIN:VCALENDAR
VERSION:2.0
PRODID:-//OGV Kaiserslautern-Dansenberg e.V. - ECPv6.15.20//NONSGML v1.0//EN
CALSCALE:GREGORIAN
METHOD:PUBLISH
X-ORIGINAL-URL:https://gartenbauverein-dansenberg.de
X-WR-CALDESC:Veranstaltungen für OGV Kaiserslautern-Dansenberg e.V.
REFRESH-INTERVAL;VALUE=DURATION:PT1H
X-Robots-Tag:noindex
X-PUBLISHED-TTL:PT1H
BEGIN:VTIMEZONE
TZID:UTC
BEGIN:STANDARD
TZOFFSETFROM:+0000
TZOFFSETTO:+0000
TZNAME:UTC
DTSTART:20250101T000000
END:STANDARD
END:VTIMEZONE
BEGIN:VEVENT
DTSTART;VALUE=DATE:20260829
DTEND;VALUE=DATE:20260830
DTSTAMP:20260425T125255
CREATED:20260225T213600Z
LAST-MODIFIED:20260226T215428Z
UID:826-1787961600-1788047999@gartenbauverein-dansenberg.de
SUMMARY:750. Jähriges Stadtjubiläum Kaiserslautern
DESCRIPTION:Am 750. Jährigen Stadtjubiläum Kaiserslautern nimmt auch der OGV Kaiserslautern-Dansenberg e.V. mit einen Stand teil. \n750 Jahre Kaiserslautern – Feiern. Erleben. Mitmachen.
URL:https://gartenbauverein-dansenberg.de/veranstaltungen/826/
ATTACH;FMTTYPE=image/png:https://gartenbauverein-dansenberg.de/wp-content/uploads/2026/02/fittosize_750_0_2b548774c83520c382703753c37516f7_750_kl_gradient_map.png
END:VEVENT
END:VCALENDAR